BEGIN:VCALENDAR
VERSION:2.0
PRODID:-//High Water Grill &amp; Rong Bar - ECPv6.15.20//NONSGML v1.0//EN
CALSCALE:GREGORIAN
METHOD:PUBLISH
X-ORIGINAL-URL:https://high-watergrill.com
X-WR-CALDESC:Events for High Water Grill &amp; Rong Bar
REFRESH-INTERVAL;VALUE=DURATION:PT1H
X-Robots-Tag:noindex
X-PUBLISHED-TTL:PT1H
BEGIN:VTIMEZONE
TZID:UTC
BEGIN:STANDARD
TZOFFSETFROM:+0000
TZOFFSETTO:+0000
TZNAME:UTC
DTSTART:20210101T000000
END:STANDARD
END:VTIMEZONE
BEGIN:VEVENT
DTSTART;TZID=UTC:20221007T190000
DTEND;TZID=UTC:20221007T220000
DTSTAMP:20260423T212839
CREATED:20221003T220733Z
LAST-MODIFIED:20221003T220733Z
UID:866-1665169200-1665180000@high-watergrill.com
SUMMARY:Hardwood Heart on the Rong Stage
DESCRIPTION:Live music First Friday at the Oregon Crafters Market and High Water Grill features Montana based string band Hardwood Heart with exploratory bluegrass to the Rong Stage in downtown Silverton Oregon. \nHave a listen here.
URL:https://high-watergrill.com/event/hardwood-heart-on-the-rong-stage/
LOCATION:Rong Stage\, 215 N. Water Street\, Silverton\, 97381\, United States
CATEGORIES:Bluegrass,First Friday,Live Music,Oregon Crafters Market,Silverton Oregon
ATTACH;FMTTYPE=image/jpeg:https://high-watergrill.com/wp-content/uploads/2022/10/Hardwood-Heart-OCM.jpeg
END:VEVENT
END:VCALENDAR