BEGIN:VCALENDAR
VERSION:2.0
PRODID:-//High Water Grill &amp; Rong Bar - ECPv6.15.20//NONSGML v1.0//EN
CALSCALE:GREGORIAN
METHOD:PUBLISH
X-ORIGINAL-URL:https://high-watergrill.com
X-WR-CALDESC:Events for High Water Grill &amp; Rong Bar
REFRESH-INTERVAL;VALUE=DURATION:PT1H
X-Robots-Tag:noindex
X-PUBLISHED-TTL:PT1H
BEGIN:VTIMEZONE
TZID:UTC
BEGIN:STANDARD
TZOFFSETFROM:+0000
TZOFFSETTO:+0000
TZNAME:UTC
DTSTART:20210101T000000
END:STANDARD
END:VTIMEZONE
BEGIN:VEVENT
DTSTART;TZID=UTC:20221030T130000
DTEND;TZID=UTC:20221030T150000
DTSTAMP:20260423T183507
CREATED:20221025T231816Z
LAST-MODIFIED:20221025T232326Z
UID:959-1667134800-1667142000@high-watergrill.com
SUMMARY:Vonnie Kyle 10/30
DESCRIPTION:Vonnie Kyle plays the Rong Stage at the Oregon Crafters Market. \nVonnie Kyle is singer-songwriter based in Portland\, Oregon. Her music has been described as “A masterful blend of indie rock and folk-tinged storytelling.” Kyle’s songs are upbeat and poignant\, exuding a 90s pop-rock sensibility. In the studio and on stage\, Kyle is an energetic and fearless performer. \nIn 2022\, having already released four different EPs since 2013\, Kyle released Imperfect Parts\, her first full-length album. Its traditional rock band lineup is complemented by lush strings\, punchy horns\, and intricate vocal harmonies. Thematically\, Imperfect Parts explores existential loneliness\, longing\, and loss\, but it’s ultimately a story of self-acceptance. \nHave a listen
URL:https://high-watergrill.com/event/vonnie-kyle-10-29/
LOCATION:Rong Stage\, 215 N. Water Street\, Silverton\, 97381\, United States
CATEGORIES:Folk Rock,Rong Stage,Silverton Oregon
ATTACH;FMTTYPE=image/jpeg:https://high-watergrill.com/wp-content/uploads/2022/09/Vonnie-Kyle-on-the-Rong-Stage.jpeg
END:VEVENT
BEGIN:VEVENT
DTSTART;TZID=UTC:20221015T190000
DTEND;TZID=UTC:20221015T220000
DTSTAMP:20260423T183507
CREATED:20221011T220620Z
LAST-MODIFIED:20221011T220620Z
UID:911-1665860400-1665871200@high-watergrill.com
SUMMARY:Chasing Ebenezer plays the Rong Stage
DESCRIPTION:Chasing Ebenezer plays the Rong Stage at Oregon Crafters Market. \nChasing Ebenezer is a world folk-rock band based in Portland\, Oregon. With influences from Celtic\, African\, and Middle Eastern music\, their songs make it hard for audiences to sit still. Their tunes are alive with bohemian violin licks\, world percussion\, and an ever-increasing array of instruments. The band is fronted by husband and wife team Benjamin & Heidi Beth Sadler. \nHave a listen here.
URL:https://high-watergrill.com/event/chasing-ebenezer-plays-the-rong-stage/
LOCATION:Rong Stage\, 215 N. Water Street\, Silverton\, 97381\, United States
CATEGORIES:Folk Rock,Live Music,Oregon Crafters Market,Rong Stage
ATTACH;FMTTYPE=image/jpeg:https://high-watergrill.com/wp-content/uploads/2022/10/Chasing-Ebenezer.jpeg
END:VEVENT
END:VCALENDAR