BEGIN:VCALENDAR
VERSION:2.0
PRODID:-//High Water Grill &amp; Rong Bar - ECPv6.15.20//NONSGML v1.0//EN
CALSCALE:GREGORIAN
METHOD:PUBLISH
X-WR-CALNAME:High Water Grill &amp; Rong Bar
X-ORIGINAL-URL:https://high-watergrill.com
X-WR-CALDESC:Events for High Water Grill &amp; Rong Bar
REFRESH-INTERVAL;VALUE=DURATION:PT1H
X-Robots-Tag:noindex
X-PUBLISHED-TTL:PT1H
BEGIN:VTIMEZONE
TZID:UTC
BEGIN:STANDARD
TZOFFSETFROM:+0000
TZOFFSETTO:+0000
TZNAME:UTC
DTSTART:20210101T000000
END:STANDARD
END:VTIMEZONE
BEGIN:VEVENT
DTSTART;TZID=UTC:20221029T130000
DTEND;TZID=UTC:20221029T150000
DTSTAMP:20260423T200835
CREATED:20221025T231403Z
LAST-MODIFIED:20221025T231403Z
UID:953-1667048400-1667055600@high-watergrill.com
SUMMARY:Eastside Jam Allstars 10/29
DESCRIPTION:Blues\, Rock\, Funk\, Soul\, Jam\, Psychedelic\, Southern. Come dance it up at the Oregon Crafters Market with this fun band playing on the Rong Stage and enjoy delicious food and libations at the High Water Grill and Rong Bar in downtown Silverton\, Oregon. \nNo cover!
URL:https://high-watergrill.com/event/eastside-jam-allstars-10-29/
LOCATION:Rong Stage\, 215 N. Water Street\, Silverton\, 97381\, United States
CATEGORIES:Blues,Funk
ATTACH;FMTTYPE=image/jpeg:https://high-watergrill.com/wp-content/uploads/2022/10/Eastside-Jam-scaled.jpeg
END:VEVENT
BEGIN:VEVENT
DTSTART;TZID=UTC:20221015T153000
DTEND;TZID=UTC:20221015T183000
DTSTAMP:20260423T200835
CREATED:20221011T220240Z
LAST-MODIFIED:20221011T220240Z
UID:908-1665847800-1665858600@high-watergrill.com
SUMMARY:Wild Horse Plays the Rong Stage
DESCRIPTION:Wild Horse takes on the Crafters Market in Silverton\, OR with a hardworking mix of original rock\, blues\, funk and soul. A groove so heavy\, you have to set it down. \n“This band blows me away…bluesy rock that kicks a**! Great vocalist and solid musicians.” – Brenda Tipton\, Eastside Bar and Grille
URL:https://high-watergrill.com/event/wild-horse-plays-the-rong-stage/
LOCATION:Rong Stage\, 215 N. Water Street\, Silverton\, 97381\, United States
CATEGORIES:Blues,Funk,Rock
ATTACH;FMTTYPE=image/png:https://high-watergrill.com/wp-content/uploads/2022/10/10-15-22-CRAFTERS-MARKET-Wild-Horse-.png
END:VEVENT
END:VCALENDAR