BEGIN:VCALENDAR
VERSION:2.0
PRODID:-//High Water Grill &amp; Rong Bar - ECPv6.15.20//NONSGML v1.0//EN
CALSCALE:GREGORIAN
METHOD:PUBLISH
X-WR-CALNAME:High Water Grill &amp; Rong Bar
X-ORIGINAL-URL:https://high-watergrill.com
X-WR-CALDESC:Events for High Water Grill &amp; Rong Bar
REFRESH-INTERVAL;VALUE=DURATION:PT1H
X-Robots-Tag:noindex
X-PUBLISHED-TTL:PT1H
BEGIN:VTIMEZONE
TZID:UTC
BEGIN:STANDARD
TZOFFSETFROM:+0000
TZOFFSETTO:+0000
TZNAME:UTC
DTSTART:20210101T000000
END:STANDARD
END:VTIMEZONE
BEGIN:VEVENT
DTSTART;TZID=UTC:20221027T190000
DTEND;TZID=UTC:20221027T220000
DTSTAMP:20260423T200954
CREATED:20221021T183641Z
LAST-MODIFIED:20221025T233749Z
UID:941-1666897200-1666908000@high-watergrill.com
SUMMARY:Parade of Bad Guys at the High Water Grill and Rong Bar 10/27
DESCRIPTION:Parade of Bad Guys plays at the High Water Grill and Rong Bar in Silverton\, Oregon. \nParade of Bad Guys is a mix of rock ‘n’ roll and alt-country. Often compared to bands like Drive-By Truckers and Lucero\, Parade of Bad Guys’ songs range from acoustic sing-alongs to loud and rowdy rock. \nAs a fifth generation Idahoan\, Ben (the band’s guitarist/singer/lyricist) tends to write songs about his family heritage and home state. Although the lyrics primarily deal with real events and people\, the band aims to capture the breadth of the human experience. With songs about heartache\, moonshine\, restlessness\, apocalyptic rats\, space travel\, loneliness\, reptilians\, and death\, no topic is too sacred or too strange for Parade of Bad Guys. \nNO COVER! \nHave a listen here.
URL:https://high-watergrill.com/event/parade-of-bad-guys-at-the-high-water-grill-and-rong-bar/
LOCATION:Rong Stage\, 215 N. Water Street\, Silverton\, 97381\, United States
CATEGORIES:Country,Live Music,Rock,Rong Stage,Silverton Oregon
ATTACH;FMTTYPE=image/png:https://high-watergrill.com/wp-content/uploads/2022/10/Screen-Shot-2022-10-21-at-11.34.48-AM.png
END:VEVENT
BEGIN:VEVENT
DTSTART;TZID=UTC:20221016T130000
DTEND;TZID=UTC:20221016T150000
DTSTAMP:20260423T200954
CREATED:20221011T221349Z
LAST-MODIFIED:20221011T221421Z
UID:914-1665925200-1665932400@high-watergrill.com
SUMMARY:Catherine Loyer Strawberry Roan Plays the Rong Stage
DESCRIPTION:Catherine Loyer Strawberry Roan Plays the Rong Stage at Oregon Crafters Market with an acoustic 4-piece show. \n“Catherine is an unexpected combination of compelling talent and stunning beauty that you do not mind your daughters looking up to!” … Topaz Management. \nCatherine has a high energy show and plays rockin’ and heartfelt songs. Country with rock\, pop\, blues.- Her own original songs and everyone’s favorites\, from modern to classic.  \nFrom clubs\, fairs\, festivals and corporate events\, to session work\, and radio jingles\, Catherine Loyer has a rich career in music. She is known for her electric presence and a voice that has both power and control.\n \nCatherine has put together a dynamic band of high caliber players. Together they bring an exciting show with a tight groove\, and powerful vocals. By adding her own personal slant\, she and each of her players create a distinctive sound that is all Strawberry Roan. \nHave a listen here.
URL:https://high-watergrill.com/event/catherine-loyer-strawberry-roan-plays-the-rong-stage/
LOCATION:Rong Stage\, 215 N. Water Street\, Silverton\, 97381\, United States
CATEGORIES:Blues,Country,Pop Rock,Rock
ATTACH;FMTTYPE=image/png:https://high-watergrill.com/wp-content/uploads/2022/10/Screen-Shot-2022-10-11-at-10.52.01-AM.png
END:VEVENT
BEGIN:VEVENT
DTSTART;TZID=UTC:20221015T153000
DTEND;TZID=UTC:20221015T183000
DTSTAMP:20260423T200954
CREATED:20221011T220240Z
LAST-MODIFIED:20221011T220240Z
UID:908-1665847800-1665858600@high-watergrill.com
SUMMARY:Wild Horse Plays the Rong Stage
DESCRIPTION:Wild Horse takes on the Crafters Market in Silverton\, OR with a hardworking mix of original rock\, blues\, funk and soul. A groove so heavy\, you have to set it down. \n“This band blows me away…bluesy rock that kicks a**! Great vocalist and solid musicians.” – Brenda Tipton\, Eastside Bar and Grille
URL:https://high-watergrill.com/event/wild-horse-plays-the-rong-stage/
LOCATION:Rong Stage\, 215 N. Water Street\, Silverton\, 97381\, United States
CATEGORIES:Blues,Funk,Rock
ATTACH;FMTTYPE=image/png:https://high-watergrill.com/wp-content/uploads/2022/10/10-15-22-CRAFTERS-MARKET-Wild-Horse-.png
END:VEVENT
END:VCALENDAR