BEGIN:VCALENDAR
VERSION:2.0
PRODID:-//High Water Grill &amp; Rong Bar - ECPv6.15.20//NONSGML v1.0//EN
CALSCALE:GREGORIAN
METHOD:PUBLISH
X-WR-CALNAME:High Water Grill &amp; Rong Bar
X-ORIGINAL-URL:https://high-watergrill.com
X-WR-CALDESC:Events for High Water Grill &amp; Rong Bar
REFRESH-INTERVAL;VALUE=DURATION:PT1H
X-Robots-Tag:noindex
X-PUBLISHED-TTL:PT1H
BEGIN:VTIMEZONE
TZID:UTC
BEGIN:STANDARD
TZOFFSETFROM:+0000
TZOFFSETTO:+0000
TZNAME:UTC
DTSTART:20210101T000000
END:STANDARD
END:VTIMEZONE
BEGIN:VEVENT
DTSTART;TZID=UTC:20221013T190000
DTEND;TZID=UTC:20221013T210000
DTSTAMP:20260423T201245
CREATED:20221012T170303Z
LAST-MODIFIED:20221012T170435Z
UID:937-1665687600-1665694800@high-watergrill.com
SUMMARY:Mathieu Raney plays High Water Grill
DESCRIPTION:Mathieu Raney plays High Water Grill. These last beautiful days of this long summer are worth celebrating. Come out and enjoy these summerish evenings with us.
URL:https://high-watergrill.com/event/mathieu-raney-plays-high-water-grill/
LOCATION:Rong Stage\, 215 N. Water Street\, Silverton\, 97381\, United States
CATEGORIES:Live Music,Rong Stage,Silverton Oregon,Singer Songwriter
ATTACH;FMTTYPE=image/jpeg:https://high-watergrill.com/wp-content/uploads/2022/10/Mathieu-Raney-HWG-e1665594263482.jpeg
END:VEVENT
BEGIN:VEVENT
DTSTART;TZID=UTC:20221009T153000
DTEND;TZID=UTC:20221009T183000
DTSTAMP:20260423T201245
CREATED:20221003T223726Z
LAST-MODIFIED:20221003T223726Z
UID:882-1665329400-1665340200@high-watergrill.com
SUMMARY:Dylan Santiago Trio Plays the Rong Stage
DESCRIPTION:Dylan Santiago Trio Plays the Rong Stage at the Oregon Crafters Market and High Water Grill and Rong Bar in Silverton\, Oregon \nDylan Santiago is a traveling\, baritone-ukulele playing\, singer/songwriter who grew up in the small city of Keizer\, Oregon. When he moved to Orange County\, he continued to study music\, started performing at open mics\, and soon began writing his own songs. During his travels across Europe and Asia\, he would busk in the streets and play impromptu sets in local bars and cafes — which eventually lead to recording promotional videos\, teaching workshops\, and playing festivals. He is known for his unique playing style\, powerful vocals\, and expressive lyrics. His sound can be described as a cross between Jason Mraz/Jack Johnson/John Mayor. \nHave a listen here.
URL:https://high-watergrill.com/event/dylan-santiago-trio-plays-the-rong-stage/
LOCATION:Rong Stage\, 215 N. Water Street\, Silverton\, 97381\, United States
CATEGORIES:Live Music,Oregon Crafters Market,Rong Stage,Silverton Oregon,Singer Songwriter,Ukulele
ATTACH;FMTTYPE=image/jpeg:https://high-watergrill.com/wp-content/uploads/2022/10/Dylan-Santiago.jpeg
END:VEVENT
END:VCALENDAR