BEGIN:VCALENDAR
VERSION:2.0
PRODID:-//High Water Grill &amp; Rong Bar - ECPv6.15.20//NONSGML v1.0//EN
CALSCALE:GREGORIAN
METHOD:PUBLISH
X-ORIGINAL-URL:https://high-watergrill.com
X-WR-CALDESC:Events for High Water Grill &amp; Rong Bar
REFRESH-INTERVAL;VALUE=DURATION:PT1H
X-Robots-Tag:noindex
X-PUBLISHED-TTL:PT1H
BEGIN:VTIMEZONE
TZID:UTC
BEGIN:STANDARD
TZOFFSETFROM:+0000
TZOFFSETTO:+0000
TZNAME:UTC
DTSTART:20210101T000000
END:STANDARD
END:VTIMEZONE
BEGIN:VEVENT
DTSTART;TZID=UTC:20221015T130000
DTEND;TZID=UTC:20221015T150000
DTSTAMP:20260423T213604
CREATED:20221011T215802Z
LAST-MODIFIED:20221011T215902Z
UID:906-1665838800-1665846000@high-watergrill.com
SUMMARY:A.C.T. 2 Duo Play the Rong Stage
DESCRIPTION:Rick and Joanne play fun\, acoustic versions of pop and rock hits from the 60s to the 2020s. At the Oregon Crafters Market on the Rong Stage.
URL:https://high-watergrill.com/event/a-c-t-2-duo-play-the-rong-stage/
LOCATION:Rong Stage\, 215 N. Water Street\, Silverton\, 97381\, United States
CATEGORIES:Live Music,Pop Rock,Soft Rock
ATTACH;FMTTYPE=image/jpeg:https://high-watergrill.com/wp-content/uploads/2022/09/Act-2.jpg
END:VEVENT
BEGIN:VEVENT
DTSTART;TZID=UTC:20221008T130000
DTEND;TZID=UTC:20221008T150000
DTSTAMP:20260423T213604
CREATED:20221003T221724Z
LAST-MODIFIED:20221003T221724Z
UID:869-1665234000-1665241200@high-watergrill.com
SUMMARY:Bernie Sims on the Rong Stage
DESCRIPTION:Welcome Bernie Sims to the Rong Stage at the Oregon Crafters Market and High Water Grill. \nBernie Sims\nSinger/Songwriter/Producer \nBorn in St. Louis\, Bernie spent his formative years in Salt Lake City and was surrounded by some amazing talents with whom to explore writing and performing music. That early opportunity led to a passion for songwriting and performing. The Beatles\, Crosby\, Stills & Nash and others were role models for both performing and writing strong melodies and 3-part harmonies. \nEarly on\, his music career involved playing both originals and cover tunes in coffee houses and with bands in high school and beyond. In addition to touring the Rocky Mountain states from his home in Salt Lake City\, a few of his bands (Icarus and Celebration) opened for national acts such as The Steve Miller Band\, Badfinger\, Quicksilver Messenger Service and It’s A Beautiful Day. Bernie moved to Seattle in 1974 to form the band PUSH\, a versatile\, six-piece rock band\, and played throughout the Northwest for several years. He made Seattle his home for years\, performing occasionally and continuing to write\, before moving to Portland in 1999. \nHis many influences include Kenny Loggins\, Paul McCartney\, Boz Scaggs\, Billy Joel\, Donald Fagen and Stephen Stills. These influences can be heard in Bernie’s songs\, which speak to love and love gone awry\, nature and man’s place in it\, and the search for meaning in a world spinning too fast. \nBernie produced and released his first CD “Alter Ego” in April of 2002. The CD’s nine\, fresh adult contemporary songs feature several outstanding Portland players and vocalists. Critics said this: \n“Fans of Southern California-style adult contemporary should check out “Alter Ego” … the songs are solid and professional and feature a subtle jazz flavor.” Stan Hall\, The Oregonian \n“Steely Dan meets Everything But the Girl” Kevin Welch\, KINK FM \n“Expressing feelings and experiences people will relate to is the force behind singer songwriter Bernie Sims’ artistic work.” Lake Oswego Review \nHave a listen here.
URL:https://high-watergrill.com/event/bernie-sims-on-the-rong-stage/
LOCATION:Rong Stage\, 215 N. Water Street\, Silverton\, 97381\, United States
CATEGORIES:Live Music,Oregon Crafters Market,Silverton Oregon,Soft Rock
ATTACH;FMTTYPE=image/jpeg:https://high-watergrill.com/wp-content/uploads/2022/10/Bernie-Sims2-1.jpeg
END:VEVENT
END:VCALENDAR